BEGIN:VCALENDAR
VERSION:2.0
PRODID:-//Verband liberaler Akademiker - ECPv6.15.18//NONSGML v1.0//EN
CALSCALE:GREGORIAN
METHOD:PUBLISH
X-ORIGINAL-URL:https://liberale-akademiker.de
X-WR-CALDESC:Veranstaltungen für Verband liberaler Akademiker
REFRESH-INTERVAL;VALUE=DURATION:PT1H
X-Robots-Tag:noindex
X-PUBLISHED-TTL:PT1H
BEGIN:VTIMEZONE
TZID:Europe/Berlin
BEGIN:DAYLIGHT
TZOFFSETFROM:+0100
TZOFFSETTO:+0200
TZNAME:CEST
DTSTART:20250330T010000
END:DAYLIGHT
BEGIN:STANDARD
TZOFFSETFROM:+0200
TZOFFSETTO:+0100
TZNAME:CET
DTSTART:20251026T010000
END:STANDARD
BEGIN:DAYLIGHT
TZOFFSETFROM:+0100
TZOFFSETTO:+0200
TZNAME:CEST
DTSTART:20260329T010000
END:DAYLIGHT
BEGIN:STANDARD
TZOFFSETFROM:+0200
TZOFFSETTO:+0100
TZNAME:CET
DTSTART:20261025T010000
END:STANDARD
BEGIN:DAYLIGHT
TZOFFSETFROM:+0100
TZOFFSETTO:+0200
TZNAME:CEST
DTSTART:20270328T010000
END:DAYLIGHT
BEGIN:STANDARD
TZOFFSETFROM:+0200
TZOFFSETTO:+0100
TZNAME:CET
DTSTART:20271031T010000
END:STANDARD
END:VTIMEZONE
BEGIN:VTIMEZONE
TZID:Europe/Paris
BEGIN:DAYLIGHT
TZOFFSETFROM:+0100
TZOFFSETTO:+0200
TZNAME:CEST
DTSTART:20250330T010000
END:DAYLIGHT
BEGIN:STANDARD
TZOFFSETFROM:+0200
TZOFFSETTO:+0100
TZNAME:CET
DTSTART:20251026T010000
END:STANDARD
BEGIN:DAYLIGHT
TZOFFSETFROM:+0100
TZOFFSETTO:+0200
TZNAME:CEST
DTSTART:20260329T010000
END:DAYLIGHT
BEGIN:STANDARD
TZOFFSETFROM:+0200
TZOFFSETTO:+0100
TZNAME:CET
DTSTART:20261025T010000
END:STANDARD
BEGIN:DAYLIGHT
TZOFFSETFROM:+0100
TZOFFSETTO:+0200
TZNAME:CEST
DTSTART:20270328T010000
END:DAYLIGHT
BEGIN:STANDARD
TZOFFSETFROM:+0200
TZOFFSETTO:+0100
TZNAME:CET
DTSTART:20271031T010000
END:STANDARD
END:VTIMEZONE
BEGIN:VEVENT
DTSTART;VALUE=DATE:20260522
DTEND;VALUE=DATE:20260526
DTSTAMP:20260420T181548
CREATED:20260205T063107Z
LAST-MODIFIED:20260408T201339Z
UID:5152-1779408000-1779753599@liberale-akademiker.de
SUMMARY:Pfingstseminar 2026: Von Kabarett über Satire bis hin zu Memes - Wie weit darf eine humorvolle Kommunikation und Kommentierung (von Politik) gehen?
DESCRIPTION:Wir laden Sie herzlich ein zum Pfingstseminar 2026. Dieses Jahr wird es humorvoll: \n„Über Humor lässt sich streiten“\, weiß der Volksmund. Und der große Literat Kurt Tucholsky fragte: „Was darf Satire?“\, worauf er gleich selbst antwortete: „Alles!“. Gilt das auch noch heute?\nSchaut man sich die Meinungsumfragen und auch einige (erst-)instanzliche Gerichtsurteile an\, so können Zweifel aufkommen. Basiert der Eindruck der Bevölkerung auf tatsächlichen Entwicklung\noder wird das nur durch Fake News hervorgerufen? Schlagen einige Strafverfolger und Richter einfach nur über die Stränge und das ist eigentlich nicht der Rede wert\, wird es doch korrigiert? \nUnser Seminar nimmt die jüngsten Fälle kritisch unter die Luppe und versucht den Dingen auf den Grund zu gehen. Nach einer interaktiven Einführung gibt die Kommunikationswissenschaftlerin Frau Prof. Dr. Katharina Kleinen-von Königslöw (angefragt) einen Einblick in die Rolle der Satire in der politischen Kultur. In Gruppenarbeiten beleuchten wir die Formen\, die Folgen und die\nGrenzen von Humor in der politischen Kommunikation. Den Höhepunkt bildet ein Kamingespräch\, in dem wir uns dem Aspekt „Das muss man aushalten! Oder? – Deutsche Satire im Umgang mit Liberalen“ widmen. \nTeilnahmebeitrag\n\n290\,- Euro im Doppelzimmer\n350\,- Euro im Einzelzimmer\n85\,- Euro für Studis/Azubis/Schüler im DZ (mit Status-Nachweis\, keine EZ-Option)\n150\,- Euro für Tagesgäste ohne Übernachtung\n\nAnmeldung\nSie können sich bis 30. April 2026 über den folgenden Link anmelden: \nhttps://forms.cloud.microsoft/e/HF08UZN3iW \nProgramm & weitere Informationen\nDas Programm und weitere Informationen können Sie hier aufrufen: \nProgramm Pfingstseminar 2026 \n 
URL:https://liberale-akademiker.de/event/pfingstseminar-2026-von-kabarett-ueber-satire-bis-hin-zu-memes-wie-weit-darf-eine-humorvolle-kommunikation-und-kommentierung-von-politik-gehen/
LOCATION:Bielefeld (gibt es das überhaupt…?)
CATEGORIES:Pfingstseminar
END:VEVENT
BEGIN:VEVENT
DTSTART;TZID=Europe/Paris:20260524T200000
DTEND;TZID=Europe/Paris:20260524T220000
DTSTAMP:20260420T181548
CREATED:20260207T115645Z
LAST-MODIFIED:20260207T115645Z
UID:5165-1779652800-1779660000@liberale-akademiker.de
SUMMARY:Verleihung des ARNO-ESCH-Preises 2026
DESCRIPTION:Mehr demnächst.
URL:https://liberale-akademiker.de/event/verleihung-aep-2026/
LOCATION:Nordrhein-Westfalen
CATEGORIES:Preisverleihung,Veranstaltungen VLA
ATTACH;FMTTYPE=image/jpeg:https://liberale-akademiker.de/wp-content/uploads/2026/02/DSC_0527-scaled.jpg
END:VEVENT
END:VCALENDAR